BEGIN:VCALENDAR
VERSION:2.0
PRODID:-//Squarespace Inc/Squarespace 6//v6//EN
BEGIN:VEVENT
UID:5de9684d7f43ba5febdad28f@squarespace.com
DTSTAMP:20201214T204950Z
DTSTART:20210118T191500Z
DTEND:20210120T020000Z
SUMMARY:Forklift Full F and OSH Course
END:VEVENT
END:VCALENDAR
