BEGIN:VCALENDAR
VERSION:2.0
PRODID:-//Squarespace Inc/Squarespace 6//v6//EN
BEGIN:VEVENT
UID:5e4207078185f139c7f65bb9@squarespace.com
DTSTAMP:20201214T205647Z
DTSTART:20210405T201500Z
DTEND:20210407T030000Z
SUMMARY:Forklift Full F and OSH Course 
END:VEVENT
END:VCALENDAR
