BEGIN:VCALENDAR
VERSION:2.0
PRODID:-//Squarespace Inc/Squarespace 6//v6//EN
BEGIN:VEVENT
UID:5e4208928185f139c7f6c253@squarespace.com
DTSTAMP:20201214T205903Z
DTSTART:20210531T201500Z
DTEND:20210602T030000Z
SUMMARY:Forklift Full F and OSH Course 
END:VEVENT
END:VCALENDAR
