BEGIN:VCALENDAR
VERSION:2.0
PRODID:-//Squarespace Inc/Squarespace 6//v6//EN
BEGIN:VEVENT
UID:5e420bc321e4105cefc76ea1@squarespace.com
DTSTAMP:20201214T205346Z
DTSTART:20210228T191500Z
DTEND:20210303T020000Z
SUMMARY:Class 2-5 Licencing Course
END:VEVENT
END:VCALENDAR
