BEGIN:VCALENDAR
VERSION:2.0
PRODID:-//Squarespace Inc/Squarespace 6//v6//EN
BEGIN:VEVENT
UID:5e420ca5c872b769dc8e7c25@squarespace.com
DTSTAMP:20201214T205605Z
DTSTART:20210328T191500Z
DTEND:20210331T020000Z
SUMMARY:Class 2-5 Licencing Course
END:VEVENT
END:VCALENDAR
