BEGIN:VCALENDAR
VERSION:2.0
PRODID:-//Squarespace Inc/Squarespace 6//v6//EN
BEGIN:VEVENT
UID:5e420e15c872b769dc8ed815@squarespace.com
DTSTAMP:20201214T210328Z
DTSTART:20210919T201500Z
DTEND:20210922T030000Z
SUMMARY:Class 2-5 Licencing Course
END:VEVENT
END:VCALENDAR
