BEGIN:VCALENDAR
VERSION:2.0
PRODID:-//Squarespace Inc/Squarespace 6//v6//EN
BEGIN:VEVENT
UID:5e420e401f12287bd476dda6@squarespace.com
DTSTAMP:20201214T210428Z
DTSTART:20211017T191500Z
DTEND:20211020T020000Z
SUMMARY:Class 2-5 Licencing Course
END:VEVENT
END:VCALENDAR
