BEGIN:VCALENDAR
VERSION:2.0
PRODID:-//Squarespace Inc/Squarespace 6//v6//EN
BEGIN:VEVENT
UID:5e420f46c2260c75ea2562b5@squarespace.com
DTSTAMP:20201214T210540Z
DTSTART:20211114T191500Z
DTEND:20211117T020000Z
SUMMARY:Class 2-5 Licencing Course
END:VEVENT
END:VCALENDAR
